BEGIN:VCALENDAR
VERSION:2.0
PRODID:-//Schudio.com//Schudio Calendar 1.0//EN
CALSCALE:GREGORIAN
METHOD:PUBLISH
X-WR-CALNAME:Chisenhale Primary School
X-WR-TIMEZONE:Europe/London
BEGIN:VEVENT
SUMMARY:Last day of Term School closes at 2pm
UID:6c9af10483d8be148b5bf127c6e841fa@schudio.com
SEQUENCE:0
STATUS:CONFIRMED
TRANSP:TRANSPARENT
DTSTART;VALUE=DATE:20210326
DTEND;VALUE=DATE:20210327
DTSTAMP:20260422T175052Z
CREATED:20210209T140938Z
LAST-MODIFIED:20210209T141553Z
CATEGORIES:
LOCATION:
ORGANIZER:
DESCRIPTION:Easter Holidays
END:VEVENT
END:VCALENDAR